BEGIN:VCALENDAR
VERSION:2.0
PRODID:-//エール・プロモーション - ECPv5.6.0//NONSGML v1.0//EN
CALSCALE:GREGORIAN
METHOD:PUBLISH
X-WR-CALNAME:エール・プロモーション
X-ORIGINAL-URL:https://yell-promotion.co.jp
X-WR-CALDESC:エール・プロモーション のイベント
BEGIN:VTIMEZONE
TZID:Asia/Tokyo
BEGIN:STANDARD
TZOFFSETFROM:+0900
TZOFFSETTO:+0900
TZNAME:JST
DTSTART:20260101T000000
END:STANDARD
END:VTIMEZONE
BEGIN:VEVENT
DTSTART;VALUE=DATE:20260428
DTEND;VALUE=DATE:20260429
DTSTAMP:20260423T224930
CREATED:20251222T035113Z
LAST-MODIFIED:20260219T060754Z
UID:5070-1777334400-1777420799@yell-promotion.co.jp
SUMMARY:山内惠介　コンサートツアー2026～明鏡止水、この世は祭り～
DESCRIPTION:
URL:https://yell-promotion.co.jp/event/20260428/
LOCATION:大宮ソニックシティ（大ホール）\, 埼玉県さいたま市大宮区桜木町1-7-5\, 2505\, 大宮
ATTACH;FMTTYPE=image/jpeg:https://yell-promotion.co.jp/wp-content/uploads/2025/12/24731ac89ac5eb634dfc7443bf919c98-scaled.jpg
END:VEVENT
END:VCALENDAR