BEGIN:VCALENDAR
VERSION:2.0
PRODID:-//エール・プロモーション - ECPv5.6.0//NONSGML v1.0//EN
CALSCALE:GREGORIAN
METHOD:PUBLISH
X-WR-CALNAME:エール・プロモーション
X-ORIGINAL-URL:https://yell-promotion.co.jp
X-WR-CALDESC:エール・プロモーション のイベント
BEGIN:VTIMEZONE
TZID:Asia/Tokyo
BEGIN:STANDARD
TZOFFSETFROM:+0900
TZOFFSETTO:+0900
TZNAME:JST
DTSTART:20260101T000000
END:STANDARD
END:VTIMEZONE
BEGIN:VEVENT
DTSTART;VALUE=DATE:20260421
DTEND;VALUE=DATE:20260422
DTSTAMP:20260424T002437
CREATED:20251126T031855Z
LAST-MODIFIED:20251126T033013Z
UID:4951-1776729600-1776815999@yell-promotion.co.jp
SUMMARY:40周年記念コンサートツアー坂本冬美コンサート2026〜今日から明日へ〜
DESCRIPTION:
URL:https://yell-promotion.co.jp/event/20260421/
LOCATION:高崎芸術劇場（大劇場）\, 群馬県高崎市栄町9-1\, 2027\, 高崎
ATTACH;FMTTYPE=image/jpeg:https://yell-promotion.co.jp/wp-content/uploads/2025/11/2131e472f27732811047ae3c5eacf0aa-scaled.jpg
END:VEVENT
END:VCALENDAR