BEGIN:VCALENDAR
VERSION:2.0
PRODID:-//エール・プロモーション - ECPv5.6.0//NONSGML v1.0//EN
CALSCALE:GREGORIAN
METHOD:PUBLISH
X-WR-CALNAME:エール・プロモーション
X-ORIGINAL-URL:https://yell-promotion.co.jp
X-WR-CALDESC:エール・プロモーション のイベント
BEGIN:VTIMEZONE
TZID:Asia/Tokyo
BEGIN:STANDARD
TZOFFSETFROM:+0900
TZOFFSETTO:+0900
TZNAME:JST
DTSTART:20260101T000000
END:STANDARD
END:VTIMEZONE
BEGIN:VEVENT
DTSTART;VALUE=DATE:20260415
DTEND;VALUE=DATE:20260416
DTSTAMP:20260424T034446
CREATED:20251222T035117Z
LAST-MODIFIED:20260219T060736Z
UID:5069-1776211200-1776297599@yell-promotion.co.jp
SUMMARY:山内惠介　コンサートツアー2026～明鏡止水、この世は祭り～
DESCRIPTION:
URL:https://yell-promotion.co.jp/event/20260415/
LOCATION:サンシティ越谷市民ホール（大ホール）\, 埼玉県越谷市南越谷1-2876-1\, 1675\, 越谷
ATTACH;FMTTYPE=image/jpeg:https://yell-promotion.co.jp/wp-content/uploads/2025/12/36b436ef5b58e8380a6655e529dc8a2c-scaled.jpg
END:VEVENT
END:VCALENDAR