BEGIN:VCALENDAR
VERSION:2.0
PRODID:-//エール・プロモーション - ECPv5.6.0//NONSGML v1.0//EN
CALSCALE:GREGORIAN
METHOD:PUBLISH
X-WR-CALNAME:エール・プロモーション
X-ORIGINAL-URL:https://yell-promotion.co.jp
X-WR-CALDESC:エール・プロモーション のイベント
BEGIN:VTIMEZONE
TZID:Asia/Tokyo
BEGIN:STANDARD
TZOFFSETFROM:+0900
TZOFFSETTO:+0900
TZNAME:JST
DTSTART:20260101T000000
END:STANDARD
END:VTIMEZONE
BEGIN:VEVENT
DTSTART;VALUE=DATE:20260408
DTEND;VALUE=DATE:20260409
DTSTAMP:20260424T064225
CREATED:20251126T031850Z
LAST-MODIFIED:20251126T032749Z
UID:4982-1775606400-1775692799@yell-promotion.co.jp
SUMMARY:40周年記念コンサートツアー坂本冬美コンサート2026〜今日から明日へ〜
DESCRIPTION:
URL:https://yell-promotion.co.jp/event/20260408/
LOCATION:市川市文化会館（大ホール）\, 千葉県市川市大和田1-1-5\, 1754\, 市川
ATTACH;FMTTYPE=image/jpeg:https://yell-promotion.co.jp/wp-content/uploads/2025/11/1268bd4df69168d054f47db1330cfb70-scaled.jpg
END:VEVENT
END:VCALENDAR