BEGIN:VCALENDAR
VERSION:2.0
PRODID:-//エール・プロモーション - ECPv5.6.0//NONSGML v1.0//EN
CALSCALE:GREGORIAN
METHOD:PUBLISH
X-WR-CALNAME:エール・プロモーション
X-ORIGINAL-URL:https://yell-promotion.co.jp
X-WR-CALDESC:エール・プロモーション のイベント
BEGIN:VTIMEZONE
TZID:Asia/Tokyo
BEGIN:STANDARD
TZOFFSETFROM:+0900
TZOFFSETTO:+0900
TZNAME:JST
DTSTART:20260101T000000
END:STANDARD
END:VTIMEZONE
BEGIN:VEVENT
DTSTART;VALUE=DATE:20260307
DTEND;VALUE=DATE:20260308
DTSTAMP:20260424T130905
CREATED:20251110T034642Z
LAST-MODIFIED:20251110T034642Z
UID:4960-1772841600-1772927999@yell-promotion.co.jp
SUMMARY:綾小路きみまろ 爆笑スーパーライブ 2026
DESCRIPTION:
URL:https://yell-promotion.co.jp/event/20260307/
LOCATION:サンシティ越谷市民ホール（大ホール）\, 埼玉県越谷市南越谷1-2876-1\, 1675\, 越谷
ATTACH;FMTTYPE=image/jpeg:https://yell-promotion.co.jp/wp-content/uploads/2025/11/8eafadd3aac29e769b60205010aace4c-scaled.jpg
END:VEVENT
END:VCALENDAR