BEGIN:VCALENDAR
VERSION:2.0
PRODID:-//エール・プロモーション - ECPv5.6.0//NONSGML v1.0//EN
CALSCALE:GREGORIAN
METHOD:PUBLISH
X-WR-CALNAME:エール・プロモーション
X-ORIGINAL-URL:https://yell-promotion.co.jp
X-WR-CALDESC:エール・プロモーション のイベント
BEGIN:VTIMEZONE
TZID:Asia/Tokyo
BEGIN:STANDARD
TZOFFSETFROM:+0900
TZOFFSETTO:+0900
TZNAME:JST
DTSTART:20260101T000000
END:STANDARD
END:VTIMEZONE
BEGIN:VEVENT
DTSTART;VALUE=DATE:20260304
DTEND;VALUE=DATE:20260305
DTSTAMP:20260424T143541
CREATED:20251215T032441Z
LAST-MODIFIED:20251215T032912Z
UID:5028-1772582400-1772668799@yell-promotion.co.jp
SUMMARY:純烈 コンサート 2026
DESCRIPTION:
URL:https://yell-promotion.co.jp/event/20260304/
LOCATION:あげお富士住建ホール（上尾市文化センター）（大ホール）\, 埼玉県上尾市二ツ宮750番地\, 上尾
ATTACH;FMTTYPE=image/jpeg:https://yell-promotion.co.jp/wp-content/uploads/2025/12/6fbe8acf32e1d19abe8d9a33beaaae60-scaled.jpg
END:VEVENT
END:VCALENDAR