BEGIN:VCALENDAR
VERSION:2.0
PRODID:-//エール・プロモーション - ECPv5.6.0//NONSGML v1.0//EN
CALSCALE:GREGORIAN
METHOD:PUBLISH
X-WR-CALNAME:エール・プロモーション
X-ORIGINAL-URL:https://yell-promotion.co.jp
X-WR-CALDESC:エール・プロモーション のイベント
BEGIN:VTIMEZONE
TZID:Asia/Tokyo
BEGIN:STANDARD
TZOFFSETFROM:+0900
TZOFFSETTO:+0900
TZNAME:JST
DTSTART:20260101T000000
END:STANDARD
END:VTIMEZONE
BEGIN:VEVENT
DTSTART;VALUE=DATE:20260303
DTEND;VALUE=DATE:20260304
DTSTAMP:20260424T161434
CREATED:20251202T095118Z
LAST-MODIFIED:20251204T060530Z
UID:5026-1772496000-1772582399@yell-promotion.co.jp
SUMMARY:綾小路きみまろ 爆笑スーパーライブ 2026
DESCRIPTION:
URL:https://yell-promotion.co.jp/event/20260303/
LOCATION:相模女子大学グリーンホール（大ホール）\, 神奈川県相模原市南区相模大野4-4-1\, 1790\, 相模大野
ATTACH;FMTTYPE=image/jpeg:https://yell-promotion.co.jp/wp-content/uploads/2025/12/d81081e0c581d22eb21aceaa0d5f95ad-scaled.jpg
END:VEVENT
END:VCALENDAR