BEGIN:VCALENDAR
VERSION:2.0
PRODID:-//エール・プロモーション - ECPv5.6.0//NONSGML v1.0//EN
CALSCALE:GREGORIAN
METHOD:PUBLISH
X-WR-CALNAME:エール・プロモーション
X-ORIGINAL-URL:https://yell-promotion.co.jp
X-WR-CALDESC:エール・プロモーション のイベント
BEGIN:VTIMEZONE
TZID:Asia/Tokyo
BEGIN:STANDARD
TZOFFSETFROM:+0900
TZOFFSETTO:+0900
TZNAME:JST
DTSTART:20260101T000000
END:STANDARD
END:VTIMEZONE
BEGIN:VEVENT
DTSTART;VALUE=DATE:20260208
DTEND;VALUE=DATE:20260209
DTSTAMP:20260424T180336
CREATED:20251202T094428Z
LAST-MODIFIED:20251204T060316Z
UID:5022-1770508800-1770595199@yell-promotion.co.jp
SUMMARY:純烈 コンサート 2026
DESCRIPTION:
URL:https://yell-promotion.co.jp/event/20260208/
LOCATION:福生市民会館（大ホール）\, 東京都福生市福生2455番地\, 福生
ATTACH;FMTTYPE=image/jpeg:https://yell-promotion.co.jp/wp-content/uploads/2025/12/b32fbadbcac61f9ab1768ab4ca74f70a-scaled.jpg
END:VEVENT
END:VCALENDAR